BEGIN:VCALENDAR
VERSION:2.0
PRODID:-//Kino Pobjeda Metković - ECPv4.6.8//NONSGML v1.0//EN
CALSCALE:GREGORIAN
METHOD:PUBLISH
X-WR-CALNAME:Kino Pobjeda Metković
X-ORIGINAL-URL:http://www.kinopobjeda.hr
X-WR-CALDESC:Events for Kino Pobjeda Metković
BEGIN:VEVENT
DTSTART;TZID=UTC+1:20221001T200000
DTEND;TZID=UTC+1:20221001T214200
DTSTAMP:20260419T194550
CREATED:20220927T122200Z
LAST-MODIFIED:20220927T122200Z
UID:4534-1664654400-1664660520@www.kinopobjeda.hr
SUMMARY:Dobra kuća
DESCRIPTION:\nU Kinu Pobjeda Metković u subotu\, 1. listopada s početkom u 20 sati na rasporedu je komedija ‘Dobra kuća’ \nFilm se temelji bestseler romanu “The Good House” autorice Ann Leary\, a prati Hildy Good\, ljutitu trgovkinju nekretnina i potomku Salemskih vještica\, koja voli svoje vino i svoje tajne. Njezin život počinje se rasplitati kada obnovi romansu sa svojom srednoškolskom ljubavi Frankom Getchellom i postane opasno upletena u nepromišljeno ponašanje jedne osobe. Otkrivajući dugo zakopane emocije i obiteljske tajne\, Hildy ce se morati obračunati s jedinom osobom koju je desetljećima izbjegavala: samom sobom. \n
URL:http://www.kinopobjeda.hr/raspored/dobra-kuca/
CATEGORIES:15,komedija
END:VEVENT
END:VCALENDAR