BEGIN:VCALENDAR
VERSION:2.0
PRODID:-//Kino Pobjeda Metković - ECPv4.6.8//NONSGML v1.0//EN
CALSCALE:GREGORIAN
METHOD:PUBLISH
X-WR-CALNAME:Kino Pobjeda Metković
X-ORIGINAL-URL:http://www.kinopobjeda.hr
X-WR-CALDESC:Events for Kino Pobjeda Metković
BEGIN:VEVENT
DTSTART;TZID=UTC+1:20220506T200000
DTEND;TZID=UTC+1:20220506T220600
DTSTAMP:20260420T123859
CREATED:20220503T110932Z
LAST-MODIFIED:20220503T110948Z
UID:4379-1651867200-1651874760@www.kinopobjeda.hr
SUMMARY:Doktor Strange u Multiverzumu ludila
DESCRIPTION:\nU Kinu ‘Pobjeda’ Metković u petak\, 6. svibnja s početkom u 20 sati na rasporedu je SF avantura – ‘Doktor Strange u Multiverzumu ludila’\, novi blockbuster studija MARVEL. \nDoktor Strange otključava Multiverzum i pomiče njegove granice dalje nego ikad prije. Putovanjem u nepoznato\, uz pomoć mističnih saveznika\, prolazi kroz zapanjujuće i opasne alternativne realnosti Multiverzuma kako bi se suprotstavio misterioznom novom protivniku. \n  \n
URL:http://www.kinopobjeda.hr/raspored/doktor-strange-u-multiverzumu-ludila/
CATEGORIES:12,znanstveno-fantastični
END:VEVENT
END:VCALENDAR