BEGIN:VCALENDAR
VERSION:2.0
PRODID:-//Kino Pobjeda Metković - ECPv4.6.8//NONSGML v1.0//EN
CALSCALE:GREGORIAN
METHOD:PUBLISH
X-WR-CALNAME:Kino Pobjeda Metković
X-ORIGINAL-URL:http://www.kinopobjeda.hr
X-WR-CALDESC:Events for Kino Pobjeda Metković
BEGIN:VEVENT
DTSTART;TZID=UTC+1:20230512T173000
DTEND;TZID=UTC+1:20230512T190500
DTSTAMP:20260419T220930
CREATED:20230509T074356Z
LAST-MODIFIED:20230509T074356Z
UID:4860-1683912600-1683918300@www.kinopobjeda.hr
SUMMARY:Drevna mišologija
DESCRIPTION:\nU Kinu ‘Pobjeda’ Metković u petak\, 12. svibnja s početkom u 17:30 na rasporedu je animirani film ‘Drevna mišologija’\, sinkroniziran na hrvatski jezik. \nNa daleki put u drevnu Grčku vodi nas mlada i pametna mišica Pattie koja je oduvijek željela postati heroina. Pattie\, uz mačka Sama\, starog heroja Jasona i Argonaute\, kreće u odvažnu potragu kako bi stanovnicima Yolcosa pružila pomoć u izradi kipa grčkog boga mora – Posejdona. Yolcos krasi spomenik Zeusu\, ali ne i Posejdonu\, što u njemu stvara strašnu ljubomoru koja prelazi u bijes. U žaru ljutnje Posejdon stanovnicima Yolcosa oduzima zlatno runo\, koje im osigurava sretan i lagodan život\, dajući im rok do kojeg moraju izgraditi i njegov spomenik. U pustolovini života hrabra se mišica suočava s najbizarnijim i najopasnijim stvorenjima iz doba mitologije. \n  \n
URL:http://www.kinopobjeda.hr/raspored/drevna-misologija/
CATEGORIES:animirani,sinkronizirano
END:VEVENT
END:VCALENDAR