BEGIN:VCALENDAR
VERSION:2.0
PRODID:-//Kino Pobjeda Metković - ECPv4.6.8//NONSGML v1.0//EN
CALSCALE:GREGORIAN
METHOD:PUBLISH
X-WR-CALNAME:Kino Pobjeda Metković
X-ORIGINAL-URL:http://www.kinopobjeda.hr
X-WR-CALDESC:Events for Kino Pobjeda Metković
BEGIN:VEVENT
DTSTART;TZID=UTC+1:20180218T163000
DTEND;TZID=UTC+1:20180218T180000
DTSTAMP:20260423T031759
CREATED:20180212T090516Z
LAST-MODIFIED:20180212T090516Z
UID:2058-1518971400-1518976800@www.kinopobjeda.hr
SUMMARY:Dugi iz kamenog doba (nedjelja)
DESCRIPTION:\nOriginalni naslov: Early Man\nDužina filma: 89 minuta\nDržava/Godina: GBR/2017\nŽanr: animirani\, obiteljski\, komedija\nGlumci: Dušan Bućan\, Dražen Bratulić\, Ranko Tihomirović\, Dajana Čuljak\nRedatelj: Nick Park \nUrnebesna prapovijesna avantura napravljena u poznatom Aardmanovom animacijskom stilu. Smještena u doba prapovijesti\, kada su opasne zvijeri i dlakavi mamuti gospodarili zemljom\, pričom prati pećinskog čovjeka (Dugi) koji zajedno sa svojim najboljim prijateljem\, divljom svinjom Hognobom\, pokušava ujediniti njihovo pleme u borbi protiv moćnih neprijatelja koji im prijete. \n \n  \n
URL:http://www.kinopobjeda.hr/raspored/dugi-iz-kamenog-doba-nedjelja/
CATEGORIES:animirani,komedija,obiteljski zabavni
END:VEVENT
END:VCALENDAR