BEGIN:VCALENDAR
VERSION:2.0
PRODID:-//Kino Pobjeda Metković - ECPv4.6.8//NONSGML v1.0//EN
CALSCALE:GREGORIAN
METHOD:PUBLISH
X-WR-CALNAME:Kino Pobjeda Metković
X-ORIGINAL-URL:http://www.kinopobjeda.hr
X-WR-CALDESC:Events for Kino Pobjeda Metković
BEGIN:VEVENT
DTSTART;TZID=UTC+1:20211105T193000
DTEND;TZID=UTC+1:20211105T210900
DTSTAMP:20260420T212410
CREATED:20211102T091450Z
LAST-MODIFIED:20211102T091450Z
UID:4114-1636140600-1636146540@www.kinopobjeda.hr
SUMMARY:Duhovi tame
DESCRIPTION:\nU Kinu ‘Pobjeda’ Metković u petak\, 5. studenoga u 19:30 na rasporedu je SF horor ‘Duhovi tame’. Riječ je o adaptaciji kratke priče Nicka Antosce ‘The Quiet Boy’ o učiteljici iz malog grada koja sa svojim bratom\, lokalnim šerifom\, otkriva da jedan njezin učenik krije opasnu tajnu. \n  \n
URL:http://www.kinopobjeda.hr/raspored/duhovi-tame/
CATEGORIES:15,akcija,horor,znanstveno-fantastični
END:VEVENT
END:VCALENDAR