BEGIN:VCALENDAR
VERSION:2.0
PRODID:-//Kino Pobjeda Metković - ECPv4.6.8//NONSGML v1.0//EN
CALSCALE:GREGORIAN
METHOD:PUBLISH
X-WR-CALNAME:Kino Pobjeda Metković
X-ORIGINAL-URL:http://www.kinopobjeda.hr
X-WR-CALDESC:Events for Kino Pobjeda Metković
BEGIN:VEVENT
DTSTART;TZID=UTC+1:20171203T163000
DTEND;TZID=UTC+1:20171203T180000
DTSTAMP:20260423T100004
CREATED:20171128T080508Z
LAST-MODIFIED:20171128T093110Z
UID:1770-1512318600-1512324000@www.kinopobjeda.hr
SUMMARY:Ekipa iz džungle (SINK.) - 3D
DESCRIPTION:\nEkipa iz džungle (SINK.) – 3D\nIZVORNO IME: Jungle Bunch\nREDATELJ: David Alaux  |  ŽANR: animirani\nULOGE: Ivan Đuričić\, Filip Juričić\, Mirela Brekalo-Popović\nTRAJANJE FILMA: 97 minuta  |  GODINA: 2017  |  DRŽAVA: Francuska  |\nPOČETAK PRIKAZIVANJA: 03.12.2017. U 16\,30\nSADRŽAJ FILMA:Maurice možda izgleda kao pingvin\, ali on je pravi tigar iznutra! Odgojen od strane tigrova\, on je najsmotaniji Kung fu majstor ikada. Zajedno sa svojim prijateljima\, namjerava održati red i pravdu u džungli\, kao što je njegova majka održavala prije njega.  Ali\, to će biti teško\, jer zla koala želi uništiti džunglu jednom zauvijek uz pomoć svoje vojske babuna. \n \n
URL:http://www.kinopobjeda.hr/raspored/ekipa-iz-dzungle-sink-3d/
CATEGORIES:animirani
END:VEVENT
END:VCALENDAR