BEGIN:VCALENDAR
VERSION:2.0
PRODID:-//Kino Pobjeda Metković - ECPv4.6.8//NONSGML v1.0//EN
CALSCALE:GREGORIAN
METHOD:PUBLISH
X-WR-CALNAME:Kino Pobjeda Metković
X-ORIGINAL-URL:http://www.kinopobjeda.hr
X-WR-CALDESC:Events for Kino Pobjeda Metković
BEGIN:VEVENT
DTSTART;TZID=UTC+1:20211204T170000
DTEND;TZID=UTC+1:20211204T185000
DTSTAMP:20260420T174416
CREATED:20211129T101108Z
LAST-MODIFIED:20211129T101108Z
UID:4148-1638637200-1638643800@www.kinopobjeda.hr
SUMMARY:Encanto: Naš čarobni svijet
DESCRIPTION:\nU Kinu ‘Pobjeda’ Metković u subotu\, 4. prosinca u 17 sati na rasporedu je animirani film ‘Encanto: Naš čarobni svijet’\, sinkroniziran na hrvatski jezik.\nAnimirana je to priča o neobičnoj obitelji Madrigal\, koja živi skrivena u magičnoj kući u planinama Kolumbije\, u divnom i šarmantnom mjestu zvanom Encanto. Magija Encanta blagoslovila je svako dijete u obitelji jedinstvenim darom\, od super snage do moći iscjeljenja\, osim Mirabel. Ali kada otkrije da je magija koja okružuje Encanto u opasnosti\, Mirabel shvati da bi ona\, jedina „normalna“ Madrigal\, mogla biti posljednja nada svoje izuzetne obitelji. \n  \n
URL:http://www.kinopobjeda.hr/raspored/encanto-nas-carobni-svijet/
CATEGORIES:animirani,sinkronizirano
END:VEVENT
END:VCALENDAR