BEGIN:VCALENDAR
VERSION:2.0
PRODID:-//Kino Pobjeda Metković - ECPv4.6.8//NONSGML v1.0//EN
CALSCALE:GREGORIAN
METHOD:PUBLISH
X-WR-CALNAME:Kino Pobjeda Metković
X-ORIGINAL-URL:http://www.kinopobjeda.hr
X-WR-CALDESC:Events for Kino Pobjeda Metković
BEGIN:VEVENT
DTSTART;TZID=UTC+1:20180224T193000
DTEND;TZID=UTC+1:20180224T220000
DTSTAMP:20260423T043113
CREATED:20180220T075439Z
LAST-MODIFIED:20180220T075439Z
UID:2085-1519500600-1519509600@www.kinopobjeda.hr
SUMMARY:ERIC CLAPTON: Život u 12 taktova
DESCRIPTION:\nIZVORNO IME: Eric Clapton: A Life in 12 Bars\nREDATELJ: Lili Fini Zanuck | ŽANR: dokumentarni\nULOGE: Eric Clapton\, B.B. King\, Jimi Hendrix\, George Harrison\nTRAJANJE FILMA: 135 minuta | GODINA: 2017 | DRŽAVA: Velika Britanija\nDATUM PRIKAZIVANJA: 24.02.2018. U 19\,30 \nSADRŽAJ FILMA: \nBiografski dokumentarac o jednom od najutjecajnijih i najvažnijih blues i rock gitarista u povijesti\, tekstopiscu i pjevaču impresivne karijere\, koja i danas traje\, te autora niza hitova među kojima su najpoznatiji „Wonderful Tonight”\, „Cocaine”\, „Layla”\, „I Shot The Sheriff”\, „Lay Down Sally” i „Tears In Heaven”. Film će uroniti i u mračnije kutke Claptonovog života\, uključujući ovisnosti o alkoholu i narkoticima\, kao i tragičnu smrt njegova četverogodišnjeg sina Conora 1991. godine. Ta ga je tragedija inspirirala da napiše „Tears In Heaven”\, jedan od najvećih hitova u njegovoj karijeri. \n \n
URL:http://www.kinopobjeda.hr/raspored/eric-clapton-zivot-12-taktova/
CATEGORIES:biografija
END:VEVENT
END:VCALENDAR