BEGIN:VCALENDAR
VERSION:2.0
PRODID:-//Kino Pobjeda Metković - ECPv4.6.8//NONSGML v1.0//EN
CALSCALE:GREGORIAN
METHOD:PUBLISH
X-WR-CALNAME:Kino Pobjeda Metković
X-ORIGINAL-URL:http://www.kinopobjeda.hr
X-WR-CALDESC:Events for Kino Pobjeda Metković
BEGIN:VEVENT
DTSTART;TZID=UTC+1:20231104T193000
DTEND;TZID=UTC+1:20231104T213000
DTSTAMP:20260419T121338
CREATED:20231102T111004Z
LAST-MODIFIED:20231102T111004Z
UID:5108-1699126200-1699133400@www.kinopobjeda.hr
SUMMARY:Escort
DESCRIPTION:\nU subotu\, 4. studenoga s početkom u 19:30 na rasporedu je triler ‘Escort’ – posljednji film redatelja i scenarista Lukasa Nole. \nPrvi puta u životu Miro provodi noć s prostitutkom koju mu je netko poslao u hotel nakon poslovne večere. Nakon spolnoga odnosa zatekne djevojku mrtvu u kupaonici. Uspješan\, sretno oženjen otac dvoje djece zataškat će ovu epizodu uz pomoć dvojce namještenika hotela koji nakon toga počinju tražiti prvo sitne pa sve krupnije usluge. Sudionici njegovog „zločina“ postaju neizostavnom pratnjom u njegovom životu koji više nikada neće biti isti. \nVažno je napomenuti kako se zbog prelaska na zimsko računanje vremena\, mijenja i satnica u rasporedu održavanja projekcija u Kinu ‘Pobjeda’ Metković. Animirani filmovi od ovoga tjedna na rasporedu će biti u 17 sati a večernje projekcije u 19:30. \n\n\n\n\n\n
URL:http://www.kinopobjeda.hr/raspored/escort/
CATEGORIES:18,triler
END:VEVENT
END:VCALENDAR