BEGIN:VCALENDAR
VERSION:2.0
PRODID:-//Kino Pobjeda Metković - ECPv4.6.8//NONSGML v1.0//EN
CALSCALE:GREGORIAN
METHOD:PUBLISH
X-WR-CALNAME:Kino Pobjeda Metković
X-ORIGINAL-URL:http://www.kinopobjeda.hr
X-WR-CALDESC:Events for Kino Pobjeda Metković
BEGIN:VEVENT
DTSTART;TZID=UTC+1:20210219T193000
DTEND;TZID=UTC+1:20210219T210000
DTSTAMP:20260421T050615
CREATED:20210215T081925Z
LAST-MODIFIED:20210215T081925Z
UID:3666-1613763000-1613768400@www.kinopobjeda.hr
SUMMARY:Fatalna
DESCRIPTION:\nU Kinu „Pobjeda“ Metković u petak\, 19. veljače u 19:30 na rasporedu je film „Fatalna“ – napeti triler s dvostrukom dobitnicom Oscara Hilary Swank u glavnoj ulozi.\nNapet i provokativan psihološki triler opisuje urušavanje savršenog života sportskog agenta Darrena\, nakon što mu zgodna policajka s kojom je proveo burnu noć namjesti ubojstvo. \n  \n
URL:http://www.kinopobjeda.hr/raspored/fatalna/
CATEGORIES:15,triler
END:VEVENT
END:VCALENDAR