BEGIN:VCALENDAR
VERSION:2.0
PRODID:-//Kino Pobjeda Metković - ECPv4.6.8//NONSGML v1.0//EN
CALSCALE:GREGORIAN
METHOD:PUBLISH
X-WR-CALNAME:Kino Pobjeda Metković
X-ORIGINAL-URL:http://www.kinopobjeda.hr
X-WR-CALDESC:Events for Kino Pobjeda Metković
BEGIN:VEVENT
DTSTART;TZID=UTC+1:20201025T193000
DTEND;TZID=UTC+1:20201025T211500
DTSTAMP:20260421T102438
CREATED:20201019T100508Z
LAST-MODIFIED:20201019T100508Z
UID:3451-1603654200-1603660500@www.kinopobjeda.hr
SUMMARY:Fatima
DESCRIPTION:\nU Kinu ‘Pobjeda’ Metković u nedjelju\, 25. listopada u 19:30 na rasporedu je film ‘Fatima’ – drama o snazi vjere\, inspirirana istinitom pričom.\nFatima je priča o desetogodišnjoj pastirici i njezina dva mlađa rođaka iz Fátime u Portugalu\, koji izvještavaju o viđenjima Djevice Marije. Njihova proročanstva nadahnjuju vjernike\, ali ljute vladu i Crkvu\, koji ih pokušavaju prisiliti da povuku svoju priču. Kako se vijest o njihovom proročanstvu širila\, deseci tisuća religioznih hodočasnika došli su na to mjesto u nadi da će svjedočiti čudu. Ono što tamo dožive\, zauvijek će im promijeniti živote.\n\n
URL:http://www.kinopobjeda.hr/raspored/fatima/
CATEGORIES:drama
END:VEVENT
END:VCALENDAR