BEGIN:VCALENDAR
VERSION:2.0
PRODID:-//Kino Pobjeda Metković - ECPv4.6.8//NONSGML v1.0//EN
CALSCALE:GREGORIAN
METHOD:PUBLISH
X-WR-CALNAME:Kino Pobjeda Metković
X-ORIGINAL-URL:http://www.kinopobjeda.hr
X-WR-CALDESC:Events for Kino Pobjeda Metković
BEGIN:VEVENT
DTSTART;TZID=UTC+1:20210816T203000
DTEND;TZID=UTC+1:20210816T223000
DTSTAMP:20260419T221611
CREATED:20210816T070247Z
LAST-MODIFIED:20210816T070247Z
UID:3990-1629145800-1629153000@www.kinopobjeda.hr
SUMMARY:Free Guy
DESCRIPTION:\nU Kinu ‘Pobjeda’ Metković u ponedjeljak\, 16. kolovoza s početkom u 20:30 na rasporedu je akcijska komedija ‘Free Guy’.\nGuy je usamljeni bankar koji otkrije da je zapravo pozadinski lik (NPC – non playable character) u svjetskoj video igri Free City. Taoci\, pljačke\, eksplozije\, otmice i ubojstva dio su njegovog svakodnevnog života. Ipak jednog dana mu “pukne film” te uzima sudbinu u svoje ruke. \n
URL:http://www.kinopobjeda.hr/raspored/free-guy/
CATEGORIES:12,akcija,komedija
END:VEVENT
END:VCALENDAR