BEGIN:VCALENDAR
VERSION:2.0
PRODID:-//Kino Pobjeda Metković - ECPv4.6.8//NONSGML v1.0//EN
CALSCALE:GREGORIAN
METHOD:PUBLISH
X-WR-CALNAME:Kino Pobjeda Metković
X-ORIGINAL-URL:http://www.kinopobjeda.hr
X-WR-CALDESC:Events for Kino Pobjeda Metković
BEGIN:VEVENT
DTSTART;TZID=UTC+1:20200119T170000
DTEND;TZID=UTC+1:20200119T183000
DTSTAMP:20260422T041352
CREATED:20200117T130726Z
LAST-MODIFIED:20200117T130726Z
UID:2998-1579453200-1579458600@www.kinopobjeda.hr
SUMMARY:FRKA
DESCRIPTION: \n
URL:http://www.kinopobjeda.hr/raspored/frka/
END:VEVENT
END:VCALENDAR