BEGIN:VCALENDAR
VERSION:2.0
PRODID:-//Kino Pobjeda Metković - ECPv4.6.8//NONSGML v1.0//EN
CALSCALE:GREGORIAN
METHOD:PUBLISH
X-WR-CALNAME:Kino Pobjeda Metković
X-ORIGINAL-URL:http://www.kinopobjeda.hr
X-WR-CALDESC:Events for Kino Pobjeda Metković
BEGIN:VEVENT
DTSTART;TZID=UTC+1:20230225T193000
DTEND;TZID=UTC+1:20230225T205000
DTSTAMP:20260419T230325
CREATED:20230221T085749Z
LAST-MODIFIED:20230221T085749Z
UID:4729-1677353400-1677358200@www.kinopobjeda.hr
SUMMARY:Glava velike ribe
DESCRIPTION:\nU Kinu ‘Pobjeda’ Metković u subotu\, 25. veljače s početkom u 19:30 na rasporedu je film ‘Glava velike ribe’.\nDugometražni prvijenac Arsena Oremovića Glava velike ribe\, prema istoimenom romanu Ognjena Sviličića\, urbana je socio-politička drama o tranziciji i poduzetništvu na balkanski način. Nakon međunarodne premijere na Cottbus Film Festivalu\, osvojene Zlatne arene za glavnu žensku ulogu (Lana Barić) i Zlatnog Oriona za glavnu mušku ulogu (Nikša Butijer)\, film dolazi pred domaću publiku. \nTaksist Andrija\, stisnut ustaljenom svakodnevicom i opčinjen nerealnim poduzetničkim ambicijama\, prodaje seosku kuću pokojnih roditelja i poziva svog brata\, ratnog veterana\, da se useli k njemu i njegovoj ženi u stan u Zagrebu. \n  \n
URL:http://www.kinopobjeda.hr/raspored/glava-velike-ribe/
CATEGORIES:15,drama
END:VEVENT
END:VCALENDAR