BEGIN:VCALENDAR
VERSION:2.0
PRODID:-//Kino Pobjeda Metković - ECPv4.6.8//NONSGML v1.0//EN
CALSCALE:GREGORIAN
METHOD:PUBLISH
X-WR-CALNAME:Kino Pobjeda Metković
X-ORIGINAL-URL:http://www.kinopobjeda.hr
X-WR-CALDESC:Events for Kino Pobjeda Metković
BEGIN:VEVENT
DTSTART;TZID=UTC+1:20231011T200000
DTEND;TZID=UTC+1:20231011T212700
DTSTAMP:20260419T134952
CREATED:20231009T081503Z
LAST-MODIFIED:20231009T081503Z
UID:5062-1697054400-1697059620@www.kinopobjeda.hr
SUMMARY:'Godina morskog psa' - ‘Rendez-vous au cinéma’
DESCRIPTION:\nU sklopu ciklusa Rendez-vous au cinéma\, odnosno Mjeseca francuskoga filma u Kino mreži\, u Kinu ‘Pobjeda’ Metković u srijedu\, 11. listopada s početkom u 20 sati održat će se projekcija filma ‘Godina morskog psa’. Ulaz je slobodan!\nRiječ je o recentnoj komediji s elementima drame i horora u kojoj je primorski gradić na jugozapadu Francuske suočen s neočekivanim dolaskom morskog psa. \nMali obalni gradić na jugozapadu Francuske u stanju je visoke pripravnosti nakon što je surfer nestao\, uskoro se otkriva nevjerojatna istina: morski pas se šulja obalom. \n  \n
URL:http://www.kinopobjeda.hr/raspored/godina-morskog-psa-rendez-vous-au-cinema/
CATEGORIES:drama,horor,komedija
END:VEVENT
END:VCALENDAR