BEGIN:VCALENDAR
VERSION:2.0
PRODID:-//Kino Pobjeda Metković - ECPv4.6.8//NONSGML v1.0//EN
CALSCALE:GREGORIAN
METHOD:PUBLISH
X-WR-CALNAME:Kino Pobjeda Metković
X-ORIGINAL-URL:http://www.kinopobjeda.hr
X-WR-CALDESC:Events for Kino Pobjeda Metković
BEGIN:VEVENT
DTSTART;TZID=UTC+1:20210326T193000
DTEND;TZID=UTC+1:20210326T213000
DTSTAMP:20260421T050700
CREATED:20210322T104152Z
LAST-MODIFIED:20210322T104152Z
UID:3746-1616787000-1616794200@www.kinopobjeda.hr
SUMMARY:Godzilla vs Kong
DESCRIPTION:\n  \nU Kinu ‘Pobjeda’ Metković u petak\, 26. ožujka u 19:30 na rasporedu je film ‘Godzilla vs Kong’ – nova akcijska avantura koja prati borbu dva mitska protivnika za nadmoćnu monstruoznu superiornost.\nLegende se sudaraju u četvrtom filmu MonsterVerse Legendary serijala. Dok se ovi mitski protivnici susreću u spektakularnoj bitci koja traje kroz vjekove\, sudbina svijeta visi o koncu. Kong i njegovi zaštitnici kreću na opasno putovanje kako bi pronašli njegov pravi dom\, a s njima je i Jia\, mlada djevojčica bez roditelja s kojom je stvorio jedinstvenu i moćnu vezu. Ali neočekivano se nađu na putu razjarene Godzille. Epski sukob dva titana – potaknut nevidljivim silama – samo je početak misterija koji leži duboko u srži Zemlje. \n  \n
URL:http://www.kinopobjeda.hr/raspored/godzilla-vs-kong/
CATEGORIES:12,akcija,avantura
END:VEVENT
END:VCALENDAR