BEGIN:VCALENDAR
VERSION:2.0
PRODID:-//Kino Pobjeda Metković - ECPv4.6.8//NONSGML v1.0//EN
CALSCALE:GREGORIAN
METHOD:PUBLISH
X-WR-CALNAME:Kino Pobjeda Metković
X-ORIGINAL-URL:http://www.kinopobjeda.hr
X-WR-CALDESC:Events for Kino Pobjeda Metković
BEGIN:VEVENT
DTSTART;TZID=UTC+1:20200201T193000
DTEND;TZID=UTC+1:20200201T213000
DTSTAMP:20260422T101653
CREATED:20200129T144540Z
LAST-MODIFIED:20200129T144540Z
UID:3032-1580585400-1580592600@www.kinopobjeda.hr
SUMMARY:GOSPODA
DESCRIPTION: \n
URL:http://www.kinopobjeda.hr/raspored/gospoda/
END:VEVENT
END:VCALENDAR