BEGIN:VCALENDAR
VERSION:2.0
PRODID:-//Kino Pobjeda Metković - ECPv4.6.8//NONSGML v1.0//EN
CALSCALE:GREGORIAN
METHOD:PUBLISH
X-WR-CALNAME:Kino Pobjeda Metković
X-ORIGINAL-URL:http://www.kinopobjeda.hr
X-WR-CALDESC:Events for Kino Pobjeda Metković
BEGIN:VEVENT
DTSTART;TZID=UTC+1:20210205T193000
DTEND;TZID=UTC+1:20210205T203600
DTSTAMP:20260421T074329
CREATED:20210202T082326Z
LAST-MODIFIED:20210202T082326Z
UID:3646-1612553400-1612557360@www.kinopobjeda.hr
SUMMARY:Gost
DESCRIPTION:\nU Kinu ‘Pobjeda’ Metković u petak\, 5. veljače u 19:30 na rasporedu je horor „Gost“.\nRadnja ovog napetog horora prati veselu ekipu koja se preko čuvenog Zoom-a redovito čuje i razmjenjuje iskustva za vrijeme pandemije koronavirusa. Dugogodišnje prijateljice tako jednom prilikom dogovaraju konferencijski poziv s vidovnjakinjom\, jer kako drugačije razdrmati monotoni karantenski život u kojem je jedina zabava i druženje s prijateljima zapravo razgovor putem konferencijskog poziva. \nNaravno\, kad djevojke shvate da se još neko priključio njihovom Zoom pozivu\, već je prekasno. \n  \n
URL:http://www.kinopobjeda.hr/raspored/gost/
CATEGORIES:15,horor
END:VEVENT
END:VCALENDAR