BEGIN:VCALENDAR
VERSION:2.0
PRODID:-//Kino Pobjeda Metković - ECPv4.6.8//NONSGML v1.0//EN
CALSCALE:GREGORIAN
METHOD:PUBLISH
X-WR-CALNAME:Kino Pobjeda Metković
X-ORIGINAL-URL:http://www.kinopobjeda.hr
X-WR-CALDESC:Events for Kino Pobjeda Metković
BEGIN:VEVENT
DTSTART;TZID=UTC+1:20210524T200000
DTEND;TZID=UTC+1:20210524T220000
DTSTAMP:20260421T024215
CREATED:20210521T110009Z
LAST-MODIFIED:20210521T110009Z
UID:3863-1621886400-1621893600@www.kinopobjeda.hr
SUMMARY:Grace Jones: Bloodlight and Bami
DESCRIPTION:\nU Kinu ‘Pobjeda’ Metković u ponedjeljak\, 24. svibnja u 20 sati na rasporedu je dokumentarni film ‘ Grace Jones: Bloodlight and Bami’\, a ulaz je slobodan.\nBiografski je to film o jamajčanskoj pjevačici Grace Jones iz 2017.\, u režiji Sophie Fiennes. \nUpadljiva\, divlja\, strašna i androgina – Grace Jones igra sve te uloge. Ipak\, u ovom je filmu otkrivamo kao partnericu\, kćer\, majku\, sestru\, čak i baku\, dok se prepušta našem znatiželjnom pogledu i dopušta nam da shvatimo od čega se sve sastoji njezina maska. \nFilm prati Grace na putovanju automobilom duž njezine rodne Jamajke sa sinom Paulom i nećakinjom Chantal\, gdje otkrivamo njezine obiteljske korijene i priču o traumatičnom djetinjstvu. Grace i njezina braća Chris i Noel\, koje je nekoliko godina odgajao nasilan i autoritativan polu-djed Mas P\, pokušavaju shvatiti i riješiti se ovog formativnog iskustva. Za to vrijeme senzualnost otoka i njegov tropski sjaj odzvanjaju užicima koji su podjednako utjecali na Grace i njezin apetit za životom. \nFilm kombinira snimke s Jamajke te iz Graceina javnog i profesionalnog života. \n
URL:http://www.kinopobjeda.hr/raspored/grace-jones-bloodlight-and-bami/
CATEGORIES:biografija,dokumentarni
END:VEVENT
END:VCALENDAR