BEGIN:VCALENDAR
VERSION:2.0
PRODID:-//Kino Pobjeda Metković - ECPv4.6.8//NONSGML v1.0//EN
CALSCALE:GREGORIAN
METHOD:PUBLISH
X-WR-CALNAME:Kino Pobjeda Metković
X-ORIGINAL-URL:http://www.kinopobjeda.hr
X-WR-CALDESC:Events for Kino Pobjeda Metković
BEGIN:VEVENT
DTSTART;TZID=UTC+1:20201002T200000
DTEND;TZID=UTC+1:20201002T220000
DTSTAMP:20260421T103525
CREATED:20200928T101049Z
LAST-MODIFIED:20200928T101049Z
UID:3371-1601668800-1601676000@www.kinopobjeda.hr
SUMMARY:Greenland: Posljednje utočište
DESCRIPTION:\n  \nU Kinu ‘Pobjeda’ Metković u petak\, 2. listopada s početkom u 20 sati održat će se projekcija filma ‘Greenland: Posljednje utočište’ – katastrofični spektakl koji prati dramu čovječanstva i običnog čovjeka pred armagedonom.\nKako se odbrojavanje do globalne apokalipse približava\, obitelj Johna Garrityja se bori za opstanak. Zajedno sa svojim sinom Nathanom moraju krenuti na opasno putovanje kako bi se domogli jedine nade za spas\, utočišta na Greenlandu. Usred zastrašujućih vijesti o uništenim gradovima širom svijeta\, dok komadi kometa izazivaju katastrofu neviđenih razmjera\, Garrityji doživljavaju najbolje i najgore od čovječanstva\, u borbi protiv sve veće panike i bezakonja koje ih okružuju. Kako se odbrojavanje do globalne apokalipse približava nuli\, njihov nevjerojatan put kulminira očajničkim i posljednjim letom u moguće sigurno utočište. \n  \n
URL:http://www.kinopobjeda.hr/raspored/greenland-posljednje-utociste/
CATEGORIES:12,akcija,triler
END:VEVENT
END:VCALENDAR