BEGIN:VCALENDAR
VERSION:2.0
PRODID:-//Kino Pobjeda Metković - ECPv4.6.8//NONSGML v1.0//EN
CALSCALE:GREGORIAN
METHOD:PUBLISH
X-WR-CALNAME:Kino Pobjeda Metković
X-ORIGINAL-URL:http://www.kinopobjeda.hr
X-WR-CALDESC:Events for Kino Pobjeda Metković
BEGIN:VEVENT
DTSTART;TZID=UTC+1:20190309T193000
DTEND;TZID=UTC+1:20190309T220000
DTSTAMP:20260422T120924
CREATED:20190306T094749Z
LAST-MODIFIED:20190306T094749Z
UID:2781-1552159800-1552168800@www.kinopobjeda.hr
SUMMARY:HALLA IDE U RAT
DESCRIPTION:\nožujka u 19:30 – ulaz besplatan\n\n \nHALLA IDE U RAT \nRežija  Benedikt Erlingsson \nScenarij           Benedikt Erlingsson\, Ólafur Egill Egilsson \nGlumci Halldóra Geirharðsdóttir\, Jóhann Sigurðarson\, Davíð Þór Jónsson\, Magnús Trygvason Eliasen\, Ómar Guðjónsson\, Iryna Danyleiko\, Galyna Goncharenko\, Susanna Karpenko\, Jörundur Ragnarsson\, Juan Camillo Roman Estrada \nTrajanje 101 minuta \n\nHalla je neovisna pedesetogodišnjakinja koja iza naizgled mirne rutine vodi buran dvostruki život kao predana ekološka aktivistica. Drugima poznata samo pod svojim alter-egom „Planinska žena“\, Halla samostalno objavljuje rat lokalnoj aluminijskoj industriji. Hallini potezi postaju sve radikalniji\, od spontanog vandalima do pomno promišljene industrijske sabotaže\, te ona uspijeva prekinuti pregovore između islandske vlade i korporacije koja gradi novu aluminijsku ljevaonicu. Međutim\, upravo kada krene planirati svoj najveći i najsmioniji aktivistički pothvat primi neočekivano pismo koji promijeni sve. Njezin zahtjev za posvajanjem djeteta konačno je prihvaćen i u Ukrajini je čeka malena djevojčica. Dok se Halla priprema napustiti svoju ulogu saboterke i spasiteljice planina kako ostvarila san o majčinstvu\, odluči isplanirati posljednji napad kako bi zadala presudni udarac aluminijskoj industriji. \n\nhttps://www.youtube.com/watch?v=U2v3_jHrvBQ \n
URL:http://www.kinopobjeda.hr/raspored/halla-ide-rat/
END:VEVENT
END:VCALENDAR