BEGIN:VCALENDAR
VERSION:2.0
PRODID:-//Kino Pobjeda Metković - ECPv4.6.8//NONSGML v1.0//EN
CALSCALE:GREGORIAN
METHOD:PUBLISH
X-WR-CALNAME:Kino Pobjeda Metković
X-ORIGINAL-URL:http://www.kinopobjeda.hr
X-WR-CALDESC:Events for Kino Pobjeda Metković
BEGIN:VEVENT
DTSTART;TZID=UTC+1:20190224T193000
DTEND;TZID=UTC+1:20190224T220000
DTSTAMP:20260422T103917
CREATED:20190220T091123Z
LAST-MODIFIED:20190220T091455Z
UID:2750-1551036600-1551045600@www.kinopobjeda.hr
SUMMARY:HLADNA OSVETA
DESCRIPTION:\nHLADNA OSVETA \nIZVORNO IME: Cold Pursuit \nREDATELJ: Hans Petter Moland  |  ŽANR: akcija\, triler \nULOGE: Liam Neeson\, Emmy Rossum\, Laura Dern \nTRAJANJE FILMA: 118 minuta  |  GODINA: 2019  |  DRŽAVA: SAD  |  PLAKAT FILMA \nSADRŽAJ FILMA: \nŽivot mirnog obiteljskog muškarca iz korijena će se promijeniti nakon misteriozne smrti njegovog sina. Njegova će ga potraga za pravdom od uzoritog građanina pretvoriti u hladnog i ubojitog osvetnika. Kreće u lov na vođu narkomafije za kojeg vjeruje da je povezan sa smrću njegova sina. \nhttps://www.youtube.com/watch?v=HJVRH8F2Iko \n\n
URL:http://www.kinopobjeda.hr/raspored/hladna-osveta/
CATEGORIES:akcija,triler
END:VEVENT
END:VCALENDAR