BEGIN:VCALENDAR
VERSION:2.0
PRODID:-//Kino Pobjeda Metković - ECPv4.6.8//NONSGML v1.0//EN
CALSCALE:GREGORIAN
METHOD:PUBLISH
X-WR-CALNAME:Kino Pobjeda Metković
X-ORIGINAL-URL:http://www.kinopobjeda.hr
X-WR-CALDESC:Events for Kino Pobjeda Metković
BEGIN:VEVENT
DTSTART;TZID=UTC+1:20210312T193000
DTEND;TZID=UTC+1:20210312T212000
DTSTAMP:20260421T050828
CREATED:20210309T132044Z
LAST-MODIFIED:20210309T132044Z
UID:3713-1615577400-1615584000@www.kinopobjeda.hr
SUMMARY:Hodajući kaos
DESCRIPTION:\n  \nU Kinu “Pobjeda” Metković u petak\, 12. ožujka u 19:30 održat će se projekcija filma “Hodajući kaos” – nova SF avantura temeljena na bestseleru “The Knife of Never Letting Go”\, prvom romanu trilogije “Chaos Walking” autora Patricka Nessa.\nRadnja se odvija u ne tako dalekoj budućnosti kada Todd Hewitt (Tom Holland) otkriva Violu (Daisy Ridley)\, tajanstvenu djevojku koja se srušila na njegov planet\, na kojem su sve žene nestale\, a muškarce muči “Buka” – sila koja stavlja na vidjelo sve njihove misli. U ovom opasnom krajoliku\, Violin život je ugrožen – i dok se Todd zavjetuje da će je štititi\, morat će otkriti vlastitu unutarnju moć i otkriti tamne tajne planeta. \n
URL:http://www.kinopobjeda.hr/raspored/hodajuci-kaos/
CATEGORIES:12,avantura,fantazija
END:VEVENT
END:VCALENDAR