BEGIN:VCALENDAR
VERSION:2.0
PRODID:-//Kino Pobjeda Metković - ECPv4.6.8//NONSGML v1.0//EN
CALSCALE:GREGORIAN
METHOD:PUBLISH
X-WR-CALNAME:Kino Pobjeda Metković
X-ORIGINAL-URL:http://www.kinopobjeda.hr
X-WR-CALDESC:Events for Kino Pobjeda Metković
BEGIN:VEVENT
DTSTART;TZID=UTC+1:20180407T200000
DTEND;TZID=UTC+1:20180407T223000
DTSTAMP:20260423T021018
CREATED:20180327T100325Z
LAST-MODIFIED:20180327T100325Z
UID:2188-1523131200-1523140200@www.kinopobjeda.hr
SUMMARY:IGRAČ BROJ 1
DESCRIPTION:\nZVORNO IME: Ready Player One \nREDATELJ: Steven Spielberg  |  ŽANR: akcija\, avantura\, Sci-Fi \nULOGE: Tye Sheridan\, Vin Diesel\, Olivia Cooke\, Hannah John-Kamen \nTRAJANJE FILMA: 140 minuta  |  GODINA: 2018  |  DRŽAVA: SAD \nDATUM PRIKAZIVANJA: 7.4.2018. u 20 sati \n \n\n\n\nSADRŽAJ FILMA: \nIgrač broj 1 prati priču tinejdžera Wadea koji svoje dane provodi igrajući OASIS. Wade ima želju iz sumornog svijeta pobjeći u globalnu mrežu virtualne utopije gdje korisnici vode idilične alternativne živote. \nKada ekscentrični multimilijarder i tvorac igrice James Halliday umre\, u oporuci ostavi svoje bogatstvo onome tko pobijedi u dobro smišljenom lovu na blago. Koristeći svoj avatar\, Wade će se u utrci za blagom morati suprotstaviti moćnim protivnicima koji ga neće prestati napadati i u stvarnom svijetu. \n
URL:http://www.kinopobjeda.hr/raspored/igrac-broj-1/
CATEGORIES:akcija,avantura,znanstveno-fantastični
END:VEVENT
END:VCALENDAR