BEGIN:VCALENDAR
VERSION:2.0
PRODID:-//Kino Pobjeda Metković - ECPv4.6.8//NONSGML v1.0//EN
CALSCALE:GREGORIAN
METHOD:PUBLISH
X-WR-CALNAME:Kino Pobjeda Metković
X-ORIGINAL-URL:http://www.kinopobjeda.hr
X-WR-CALDESC:Events for Kino Pobjeda Metković
BEGIN:VEVENT
DTSTART;TZID=UTC+1:20190112T193000
DTEND;TZID=UTC+1:20190112T220000
DTSTAMP:20260423T040253
CREATED:20190109T085733Z
LAST-MODIFIED:20190109T085733Z
UID:2605-1547321400-1547330400@www.kinopobjeda.hr
SUMMARY:INSTANT OBITELJ
DESCRIPTION:subota\, 12. 1. u 19:30 \nINSTANT OBITELJ \nIZVORNO IME: Instant Family \nREDATELJ: Sean Anders  |  ŽANR: komedija \nULOGE: Mark Wahlberg\, Rose Byrne\, Isabela Moner \nTRAJANJE FILMA: 118 minuta  |  GODINA: 2019  |  DRŽAVA: SAD  |  PLAKAT FILMA \nPOČETAK PRIKAZIVANJA: 10.01.2019 \nSADRŽAJ FILMA: \nKada Pete (Mark Wahlberg) i Ellie (Rose Byrne) odluče zasnovati obitelj\, krenu istraživati mogućnosti posvajanja. U domu za posvajanje upoznaju buntovnu 15-godišnju djevojku (Isabela Moner) i njezinog mlađeg brata i sestru te preko noći postaju peteročlana obitelj. Ova topla i emotivna filmska priča o paru čiji život kreće drugačijim tokom od trenutka kada usvoje troje djece je inspirirana stvarnim događajima. Uz Wahlberga i Byrne u filmu glume Octavia Spencer\, Tig Notaro i Margo Martindale. \nTrailer \n \n  \n
URL:http://www.kinopobjeda.hr/raspored/instant-obitelj/
ATTACH;FMTTYPE=image/jpeg:http://www.kinopobjeda.hr/wp-content/uploads/2019/01/Instant-obitelj-.jpg
END:VEVENT
END:VCALENDAR