BEGIN:VCALENDAR
VERSION:2.0
PRODID:-//Kino Pobjeda Metković - ECPv4.6.8//NONSGML v1.0//EN
CALSCALE:GREGORIAN
METHOD:PUBLISH
X-WR-CALNAME:Kino Pobjeda Metković
X-ORIGINAL-URL:http://www.kinopobjeda.hr
X-WR-CALDESC:Events for Kino Pobjeda Metković
BEGIN:VEVENT
DTSTART;TZID=UTC+1:20170603T200000
DTEND;TZID=UTC+1:20170603T220000
DTSTAMP:20260423T213910
CREATED:20170523T091059Z
LAST-MODIFIED:20170530T115529Z
UID:1421-1496520000-1496527200@www.kinopobjeda.hr
SUMMARY:ALIEN: SAVEZ
DESCRIPTION:\nIZVORNO IME: Alien: Covenant\nREDATELJ: Ridley Scott | ŽANR: SF\, triler\nULOGE: Michael Fassbender\, Katherine Waterston\, James Franco\nTRAJANJE FILMA: 122 minuta | GODINA: 2017 | DRŽAVA: SAD | \nSADRŽAJ FILMA:\nPosada broda Covenant\, na putu je prema drugoj strani galaktike\, gdje otkrivaju ono za što misle da je nepoznati raj\, ali je to zapravo mračan i opasan svijet. Međutim\, kada otkriju mračnu tajnu koju skriva nepoznati svijet\, morat će isplanirati put za bijeg. U glavnim ulogama ćemo gledati nominiranog za nagradu Oscar®\, Michaela Fassbendera\, Katherine Waterston\, Billyja Crudupa\, Dannyja McBridea\, Demiána Bichira te mnoge druge. Redatelj filma je neponovljivi Ridley Scott\, a scenarij potpisuju Jack Paglen (Transcendence) i Michael Green (Green Lantern). \n\n			\n				\n			\n			\n				\n			\n			\n				\n			\n			\n				\n			\n			\n				\n			\n			\n				\n			\n		\n\n
URL:http://www.kinopobjeda.hr/raspored/izvorno-ime-alien-covenant-redatelj-ridley-scott-zanr-sf-triler-uloge-michael-fassbender-katherine-waterston-james-franco-trajanje-filma-122-minuta-godina-2017-drzava-sad-pl/
CATEGORIES:triler,znanstveno-fantastični
ATTACH;FMTTYPE=image/jpeg:http://www.kinopobjeda.hr/wp-content/uploads/2017/05/MV5BMTUzNTg0MDM3Ml5BMl5BanBnXkFtZTgwNzMxMDE2MTI@._V1_SY1000_CR0014991000_AL_.jpg
END:VEVENT
END:VCALENDAR