BEGIN:VCALENDAR
VERSION:2.0
PRODID:-//Kino Pobjeda Metković - ECPv4.6.8//NONSGML v1.0//EN
CALSCALE:GREGORIAN
METHOD:PUBLISH
X-WR-CALNAME:Kino Pobjeda Metković
X-ORIGINAL-URL:http://www.kinopobjeda.hr
X-WR-CALDESC:Events for Kino Pobjeda Metković
BEGIN:VEVENT
DTSTART;TZID=UTC+1:20210417T200000
DTEND;TZID=UTC+1:20210417T220000
DTSTAMP:20260421T023816
CREATED:20210412T132147Z
LAST-MODIFIED:20210412T132147Z
UID:3784-1618689600-1618696800@www.kinopobjeda.hr
SUMMARY:Jedini izlaz
DESCRIPTION:\nU Kinu ‘Pobjeda’ Metković u subotu\, 17. travnja u 20 sati na rasporedu je psihološki triler ‘Jedini izlaz’ – film nastao iz pera scenarista Marka Popovića koji je okupio poznatu glumačku ekipu iz regije.\nAnđelka Prpić igra Anu Kolar\, čiji je suprug\, poznati beogradski odvjetnik (Janko Popović Volarić) stradao u požaru. Šest godina nakon nesreće Ana dobiva informacije koje dovode u pitanje sve što je mislila da zna o tragediji\, ali i svojoj obitelji. \nParalelno\, iznenadna smrt najboljega prijatelja njegove kćeri\, uvlači inspektora Dejana Štrpca (Ljubomir Bandović) u lanac zločina\, koji počinje nestankom mlade odvjetnice prije šest godina. Dvoje junaka počinju zajedničku potragu za istinom koja ih suočava sa mrežom laži\, ucjena\, ubojstava\, ali i mračnim tajnama iz vlastite prošlosti. \n  \n  \n
URL:http://www.kinopobjeda.hr/raspored/jedini-izlaz/
CATEGORIES:15,triler
END:VEVENT
END:VCALENDAR