BEGIN:VCALENDAR
VERSION:2.0
PRODID:-//Kino Pobjeda Metković - ECPv4.6.8//NONSGML v1.0//EN
CALSCALE:GREGORIAN
METHOD:PUBLISH
X-WR-CALNAME:Kino Pobjeda Metković
X-ORIGINAL-URL:http://www.kinopobjeda.hr
X-WR-CALDESC:Events for Kino Pobjeda Metković
BEGIN:VEVENT
DTSTART;TZID=UTC+1:20201114T170000
DTEND;TZID=UTC+1:20201114T183000
DTSTAMP:20260421T103250
CREATED:20201109T091732Z
LAST-MODIFIED:20201109T091732Z
UID:3493-1605373200-1605378600@www.kinopobjeda.hr
SUMMARY:Jednom davno
DESCRIPTION:\nU Kinu ‘Pobjeda’ Metković u subotu\, 14. studenoga u 17 sati održat će se projekcija filma ‘Jednom davno’. \nPrije nego što je Alice otišla u Wonderland i prije nego što je Peter postao Peter Pan bili su brat i sestra. Kada njihov najstariji brat pogiba u tragičnoj nesreći Alice i Peter kreću u misiju spašavanja roditelja od očaja. \n  \n
URL:http://www.kinopobjeda.hr/raspored/jednom-davno/
CATEGORIES:avantura,fantazija,obiteljski zabavni
END:VEVENT
END:VCALENDAR