BEGIN:VCALENDAR
VERSION:2.0
PRODID:-//Kino Pobjeda Metković - ECPv4.6.8//NONSGML v1.0//EN
CALSCALE:GREGORIAN
METHOD:PUBLISH
X-WR-CALNAME:Kino Pobjeda Metković
X-ORIGINAL-URL:http://www.kinopobjeda.hr
X-WR-CALDESC:Events for Kino Pobjeda Metković
BEGIN:VEVENT
DTSTART;TZID=UTC+1:20170305T213000
DTEND;TZID=UTC+1:20170305T214000
DTSTAMP:20260425T152316
CREATED:20170301T160946Z
LAST-MODIFIED:20170301T160946Z
UID:1209-1488749400-1488750000@www.kinopobjeda.hr
SUMMARY:John Wick 2
DESCRIPTION:\nU ovom nastavku hita iz 2014.\, legendarni plaćeni ubojica John Wick (Keanu Reeves) prisiljen je prekinuti mirovinu jer njegov bivši suradnik planira preuzeti kontrolu nad klanom međunarodnih ubojica. Krvna zakletva ga obvezuje da mu pomogne pa John putuje u Rim gdje se bori protiv nekolicine najsmrtonosnijih svjetskih ubojica. \nNakon što je raspalio svoj gnjev na kriminalce koji su mu ubili psa\, umirovljeni super ubojica John Wick uspijeva vratiti i svoj voljeni Mustang iz 1969. od ruskih mafijaša koji su ga ukrali i time pokreće spektakularnu potjeru kroz užurbane ulice New Yorka. Po povratku doma\, Johnovi planovi da nastavi miran život običnog građanina padnu u vodu kada se talijanski mafijaš Santino DAntonio (Riccardo Scamarcio) pojavljuje na njegovom pragu sa zlatnim “markerom” primoravajući ga da vrati uslugu iz prošlosti. Po naredbi Winstona (Ian McShane)\, vođe tajnog udruženja ubojica pod nazivom The Continental\, da mora poštivati drevni kod organizacije\, John nevoljko prihvaća zadatak da ubije Santinovu sestru Giannu (Claudia Gerini)\, nemilosrdne capo na čelu talijanskog kriminalnog sindikata Camorra. \n\n			\n				\n			\n			\n				\n			\n			\n				\n			\n		\n\n
URL:http://www.kinopobjeda.hr/raspored/john-wick-2/
CATEGORIES:akcija,kriminalistički,triler
END:VEVENT
END:VCALENDAR