BEGIN:VCALENDAR
VERSION:2.0
PRODID:-//Kino Pobjeda Metković - ECPv4.6.8//NONSGML v1.0//EN
CALSCALE:GREGORIAN
METHOD:PUBLISH
X-WR-CALNAME:Kino Pobjeda Metković
X-ORIGINAL-URL:http://www.kinopobjeda.hr
X-WR-CALDESC:Events for Kino Pobjeda Metković
BEGIN:VEVENT
DTSTART;TZID=UTC+1:20230324T193000
DTEND;TZID=UTC+1:20230324T222000
DTSTAMP:20260419T215655
CREATED:20230320T084243Z
LAST-MODIFIED:20230320T084243Z
UID:4781-1679686200-1679696400@www.kinopobjeda.hr
SUMMARY:John Wick 4
DESCRIPTION:\nU Kinu ‘Pobjeda’ Metković u petak\, 24. ožujka s početkom u 19:30 na rasporedu je akcijski triler ‘John Wick 4’.\nU četvrtom nastavku velikog akcijskog spektakla John Wick se suočava sa dosad najsmrtonosnijim protivnicima. \nJohn Wick (Keanu Reeves) otkriva put do pobjede nad Visokim stolom. Ali prije nego što uspije zaslužiti slobodu\, Wick se mora suočiti s novim neprijateljem i moćnim savezima diljem svijeta te silama koje stare prijatelje pretvaraju u neprijatelje. \nRadnja novog filma odvija se diljem svijeta i donosi precizno-koreografiranu akciju posebne vrste. U potrazi za najmoćnijim igračima kriminalnog podzemnog svijeta\, film vodi gledatelje u New York\, Pariz\, Osaku i Berlin. \n  \n
URL:http://www.kinopobjeda.hr/raspored/john-wick-4/
CATEGORIES:15,akcija,triler
END:VEVENT
END:VCALENDAR