BEGIN:VCALENDAR
VERSION:2.0
PRODID:-//Kino Pobjeda Metković - ECPv4.6.8//NONSGML v1.0//EN
CALSCALE:GREGORIAN
METHOD:PUBLISH
X-WR-CALNAME:Kino Pobjeda Metković
X-ORIGINAL-URL:http://www.kinopobjeda.hr
X-WR-CALDESC:Events for Kino Pobjeda Metković
BEGIN:VEVENT
DTSTART;TZID=UTC+1:20200906T200000
DTEND;TZID=UTC+1:20200906T220000
DTSTAMP:20260421T135958
CREATED:20200826T094653Z
LAST-MODIFIED:20200826T094803Z
UID:3266-1599422400-1599429600@www.kinopobjeda.hr
SUMMARY:'Još uvijek vjerujem'
DESCRIPTION:\n\nU nedjelju\, 6. rujna s početkom u 20 sati u Kinu ‘Pobjeda’ održat će se projekcija filma „Još uvijek vjerujem“ – nadahnjujuća priča o kršćanskoj glazbenoj zvijezdi\, Jeremyju Campu te njegovome ljubavnom putovanju i gubitku.\nJeremy Camp iza sebe ima dvanaestogodišnje glazbeno iskustvo i brojna priznanja i ostvarenja\, preko četiri milijuna prodanih albuma\, tri nominacije za American Music Awards i nominaciju za Grammy\, a nastupao je u više od trideset zemalja svijeta. \nOvo je priča nastala na temelju njegove intimne ispovijesti u knjizi „I Still Believe” u kojoj je s čitateljima podijelio neka od životnih iskustava. Njegova supruga umrla je od raka kad je imao 21 godinu. Teški životni trenuci i patnja dio su njegovoga života koji ga je na neki način oblikovao. \nO patnjama ne šuti\, nego pokušava pomoći i drugima koji prolaze kroz slične situacije te ih ohrabriti. \n  \n  \n
URL:http://www.kinopobjeda.hr/raspored/jos-uvijek-vjerujem/
CATEGORIES:glazbeni,romansa
END:VEVENT
END:VCALENDAR