BEGIN:VCALENDAR
VERSION:2.0
PRODID:-//Kino Pobjeda Metković - ECPv4.6.8//NONSGML v1.0//EN
CALSCALE:GREGORIAN
METHOD:PUBLISH
X-WR-CALNAME:Kino Pobjeda Metković
X-ORIGINAL-URL:http://www.kinopobjeda.hr
X-WR-CALDESC:Events for Kino Pobjeda Metković
BEGIN:VEVENT
DTSTART;TZID=UTC+1:20171230T180000
DTEND;TZID=UTC+1:20171230T200000
DTSTAMP:20260423T051632
CREATED:20171227T110738Z
LAST-MODIFIED:20171227T123446Z
UID:1861-1514656800-1514664000@www.kinopobjeda.hr
SUMMARY:JUMANJI: DOBRODOŠLI U DŽUNGLU
DESCRIPTION:\nIZVORNO IME: Jumanji: Welcome to the Jungle\nREDATELJ: Jake Kasdan | ŽANR: akcija\, avantura\, komedija\nULOGE: Dwayne The Rock Johnson\, Jack Black\, Kevin Hart\, Karen Gillan\nTRAJANJE FILMA: 119 minuta | GODINA: 2017 | DRŽAVA: SAD\nPOČETAK PRIKAZIVANJA: 30.12.2017\nDatum prikazivanja je informativnog karaktera i kao takav je podložan promjenama. \nSADRŽAJ FILMA:\nU potpuno novoj filmskoj avanturi naziva JUMANJI: DOBRODOŠLI U DŽUNGLU\, četvero tinejdžera naći će se u nevjerojatnom Jumanji svijetu. \nKada četvero srednjoškolaca otkrije staru video igru za koju nikad prije nisu čuli (Jumanji)\, bit će uvučeni u zabavan svijet džungle i doslovno postati avatari prema vlastitom izboru: Spencer će tako postati štreberski istraživač (Dwayne Johnson)\, sportaš Fridge će postati pravi Einstein (Kevin Hart)\, popularna djevojka Bethany će postati sredovječni profesor (Jack Black)\, a krhka Martha pretvorit će se u neustrašivu ratnicu (Karen Gillan). Međutim\, zabava će se uskoro pretvoriti u nešto drugo\, kada otkriju da se Jumanji ne igra – već preživljava. Kako bi pobijedili igru i vratili se u stvarni svijet\, morat će proći najopasniju avanturu svojih života\, otkriti što je Alan Parrish ostavio iza sebe prije 20 godina i promijeniti način na koji gledaju sami sebe… Ili će ostati zatočeni u igri zauvijek. \n  \n \n
URL:http://www.kinopobjeda.hr/raspored/jumanji-dobrodosli-dzunglu/
CATEGORIES:akcija,avantura,komedija
END:VEVENT
END:VCALENDAR