BEGIN:VCALENDAR
VERSION:2.0
PRODID:-//Kino Pobjeda Metković - ECPv4.6.8//NONSGML v1.0//EN
CALSCALE:GREGORIAN
METHOD:PUBLISH
X-WR-CALNAME:Kino Pobjeda Metković
X-ORIGINAL-URL:http://www.kinopobjeda.hr
X-WR-CALDESC:Events for Kino Pobjeda Metković
BEGIN:VEVENT
DTSTART;TZID=UTC+1:20220618T200000
DTEND;TZID=UTC+1:20220618T222600
DTSTAMP:20260420T094248
CREATED:20220613T084133Z
LAST-MODIFIED:20220613T084133Z
UID:4434-1655582400-1655591160@www.kinopobjeda.hr
SUMMARY:Jurski svijet: Carstvo
DESCRIPTION:\nU Kinu ‘Pobjeda’ Metković u subotu\, 18. lipnja u 20 sati na rasporedu je epska akcijska avantura ‘Jurski svijet: Carstvo“. \nDoživite epski završetak Jurske ere kada se dvije generacije prvi put udružuju. Chrisu Prattu i Bryceu Dallasu Howardu pridružuju se dobitnica Oscara Laura Dern\, Jeff Goldblum i Sam Neill u ‘Jurskom svijetu: Carstvo’\, smjeloj\, pravodobnoj i novoj avanturi koja oduzima dah. \nOd arhitekta i redatelja Jurskog svijeta Colina Trevorrowa\, Carstvo se odvija četiri godine nakon što je Isla Nublar uništen. Dinosauri sada žive – i love – zajedno s ljudima diljem svijeta. Ova krhka ravnoteža će preoblikovati budućnost i odrediti\, jednom zauvijek\, hoće li ljudska bića ostati vrhunski grabežljivci na planetu koji sada dijele s najstrašnijim stvorenjima u povijesti. \n  \n
URL:http://www.kinopobjeda.hr/raspored/jurski-svijet-carstvo/
CATEGORIES:epska avantura
END:VEVENT
END:VCALENDAR