BEGIN:VCALENDAR
VERSION:2.0
PRODID:-//Kino Pobjeda Metković - ECPv4.6.8//NONSGML v1.0//EN
CALSCALE:GREGORIAN
METHOD:PUBLISH
X-WR-CALNAME:Kino Pobjeda Metković
X-ORIGINAL-URL:http://www.kinopobjeda.hr
X-WR-CALDESC:Events for Kino Pobjeda Metković
BEGIN:VEVENT
DTSTART;TZID=UTC+1:20170701T180000
DTEND;TZID=UTC+1:20170701T193000
DTSTAMP:20260423T122137
CREATED:20170630T103901Z
LAST-MODIFIED:20170630T122506Z
UID:1524-1498932000-1498937400@www.kinopobjeda.hr
SUMMARY:KAKO JE GRU POSTAO DOBAR - SINK.
DESCRIPTION:\nKAKO JE GRU POSTAO DOBAR – SINK.\nIZVORNO IME: Despicable Me 3\nREDATELJ: Pierre Coffin\, Kyle Balda  |  ŽANR: Animirani\, komedija\, avantura |\n ULOGE: Rene Bitorajac\, Zoran Pribičević\, Hana Hegedušić\, Dražen Bratulić | TRAJANJE FILMA: 90 minuta  |  GODINA: 2017  |  DRŽAVA: SAD  |  \nDATUM PRIKAZIVANJA: 1.7. U 18\,00 \n \n
URL:http://www.kinopobjeda.hr/raspored/kako-je-gru-postao-dobar-sink/
CATEGORIES:animirani,avantura,komedija,sinkronizirano
END:VEVENT
END:VCALENDAR