BEGIN:VCALENDAR
VERSION:2.0
PRODID:-//Kino Pobjeda Metković - ECPv4.6.8//NONSGML v1.0//EN
CALSCALE:GREGORIAN
METHOD:PUBLISH
X-WR-CALNAME:Kino Pobjeda Metković
X-ORIGINAL-URL:http://www.kinopobjeda.hr
X-WR-CALDESC:Events for Kino Pobjeda Metković
BEGIN:VEVENT
DTSTART;TZID=UTC+1:20200307T193000
DTEND;TZID=UTC+1:20200307T213000
DTSTAMP:20260421T214027
CREATED:20200304T122829Z
LAST-MODIFIED:20200304T122829Z
UID:3121-1583609400-1583616600@www.kinopobjeda.hr
SUMMARY:KAO ŠEFICA
DESCRIPTION:\nSUBOTA\, 7.3. u 19:30 sati – KAO ŠEFICA (LIKE A BOSS) \nREDATELJ: Miguel Arteta | ŽANR: komedija \nNajbolje prijateljice Mia i Mel (Tiffany Haddish i Rose Byrne) žive život iz snova vodeći vlastitu kozmetičku kompaniju koju su zajedno gradile od samog početka. Nažalost\, zapadaju u financijske poteškoće\, a iz tih problema mogu se izvući ukoliko pristanu na preuzimanje od strane moćne kompanije Claire Luna (Hayek). Nova poslovna ponuda staviti će na kušnju dugogodišnje prijateljstvo\, a ni svijet ljepote više neće bit tako lijep. \n \n
URL:http://www.kinopobjeda.hr/raspored/kao-sefica/
CATEGORIES:komedija
END:VEVENT
END:VCALENDAR