BEGIN:VCALENDAR
VERSION:2.0
PRODID:-//Kino Pobjeda Metković - ECPv4.6.8//NONSGML v1.0//EN
CALSCALE:GREGORIAN
METHOD:PUBLISH
X-WR-CALNAME:Kino Pobjeda Metković
X-ORIGINAL-URL:http://www.kinopobjeda.hr
X-WR-CALDESC:Events for Kino Pobjeda Metković
BEGIN:VEVENT
DTSTART;TZID=UTC+1:20220108T193000
DTEND;TZID=UTC+1:20220108T214100
DTSTAMP:20260420T163110
CREATED:20211229T112233Z
LAST-MODIFIED:20211229T112233Z
UID:4206-1641670200-1641678060@www.kinopobjeda.hr
SUMMARY:King's man: Početak
DESCRIPTION:\nU Kinu ‘Pobjeda’ Metković u subotu\, 8. siječnja u 19:30 na rasporedu je akcijska avantura ‘King’s man: Početak’. \nTemeljen na stripu „The Secret Service” Marka Millara i Davea Gibbonsa\, novi nastavak u franšizi KINGSMAN vodi nas na početak priče\, prije radnji koje su se dogodile u nastavcima Kingsman: Tajna služba i Kingsman: Zlatni krug. Glumačka postava ni ovaj put nije razočarala: Ralph Fiennes\, Gemma Arterton\, Rhys Ifans\, Matthew Goode\, Tom Hollander\, Harris Dickinson\, Daniel Brühl\, Djimon Hounsou\, i Charles Dance\, a redateljsku palicu ponovno je preuzeo Matthew Vaughn. \n  \n
URL:http://www.kinopobjeda.hr/raspored/kings-man-pocetak/
CATEGORIES:15,akcija,avantura
END:VEVENT
END:VCALENDAR