BEGIN:VCALENDAR
VERSION:2.0
PRODID:-//Kino Pobjeda Metković - ECPv4.6.8//NONSGML v1.0//EN
CALSCALE:GREGORIAN
METHOD:PUBLISH
X-WR-CALNAME:Kino Pobjeda Metković
X-ORIGINAL-URL:http://www.kinopobjeda.hr
X-WR-CALDESC:Events for Kino Pobjeda Metković
BEGIN:VEVENT
DTSTART;TZID=UTC+1:20170929T203000
DTEND;TZID=UTC+1:20170929T223000
DTSTAMP:20260423T110340
CREATED:20170925T123856Z
LAST-MODIFIED:20170927T111326Z
UID:1715-1506717000-1506724200@www.kinopobjeda.hr
SUMMARY:KINGSMAN: ZLATNI KRUG
DESCRIPTION:\nKINGSMAN: ZLATNI KRUG\nIZVORNO IME: Kingsman: The Golden Circle\nREDATELJ: Matthew Vaughn  |  ŽANR: akcija\, avantura\nULOGE: Colin Firth\, Julianne Moore\, Taron Egerton\, Mark Strong\, Halle Berry\nTRAJANJE FILMA: 141 minuta  |  GODINA: 2017  |  DRŽAVA: Velika Britanija\, SAD  |  POČETAK PRIKAZIVANJA: 29.09. i 30.9.\nDatum prikazivanja je informativnog karaktera i kao takav je podložan promjenama. \nSADRŽAJ FILMA: \nKingsman: Tajna služba\, uveo vas je u svijet Kingsmana – nezavisne\, međunarodne obavještajne agencije\, čiji je glavni cilj održati svijet sigurnim. U novom nastavku naši junaci se suočavaju s novim izazovima. Kada njihovo sjedište bude uništeno\,  njihovo putovanje će ih odvesti do otkrića srodne špijunske agencije u SAD-u pod nazivom Statesman\, koja datira iz vremena kada su obje agencije osnovane. U novoj avanturi koja testira njihove granice i snage\, ove dvije elitne agencije će se morati udružiti kako bi pobijedili nemilosrdnog zajedničkog neprijatelja.\n\n\n
URL:http://www.kinopobjeda.hr/raspored/kingsman-zlatni-krug/
CATEGORIES:akcija,avantura
END:VEVENT
END:VCALENDAR