BEGIN:VCALENDAR
VERSION:2.0
PRODID:-//Kino Pobjeda Metković - ECPv4.6.8//NONSGML v1.0//EN
CALSCALE:GREGORIAN
METHOD:PUBLISH
X-WR-CALNAME:Kino Pobjeda Metković
X-ORIGINAL-URL:http://www.kinopobjeda.hr
X-WR-CALDESC:Events for Kino Pobjeda Metković
BEGIN:VEVENT
DTSTART;TZID=UTC+1:20201205T193000
DTEND;TZID=UTC+1:20201205T210500
DTSTAMP:20260421T104614
CREATED:20201130T101504Z
LAST-MODIFIED:20201130T101515Z
UID:3536-1607196600-1607202300@www.kinopobjeda.hr
SUMMARY:Klopa\, cuga i luđaci
DESCRIPTION:\nU Kinu ‘Pobjeda’ Metković u subotu\, 5. prosinca u 19:30 na rasporedu je nova komedija ‘KIopa\, cuga i luđaci’.\nAbby se raduje mirnom i opuštenom Danu zahvalnosti koji će provesti sa svojom najboljom prijateljicom Molly. No\, planovi za mirnu večer s puretinom ubrzo odlaze k vragu kada im se pridružuju novi Mollyin dečko i njezina osebujna majka. Ako na to dodamo i par nepozvanih gostiju koji se pojavljuju na večeri\, uključujući Mollynu staru ljubav koji je ujedno i šaman te veseli gey trojac večera će se pretvoriti u zabavu koja će se dugo pamtiti. \n  \n
URL:http://www.kinopobjeda.hr/raspored/klopa-cuga-ludaci/
CATEGORIES:12,komedija
END:VEVENT
END:VCALENDAR