BEGIN:VCALENDAR
VERSION:2.0
PRODID:-//Kino Pobjeda Metković - ECPv4.6.8//NONSGML v1.0//EN
CALSCALE:GREGORIAN
METHOD:PUBLISH
X-WR-CALNAME:Kino Pobjeda Metković
X-ORIGINAL-URL:http://www.kinopobjeda.hr
X-WR-CALDESC:Events for Kino Pobjeda Metković
BEGIN:VEVENT
DTSTART;TZID=UTC+1:20190113T193000
DTEND;TZID=UTC+1:20190113T213000
DTSTAMP:20260423T022409
CREATED:20190109T095217Z
LAST-MODIFIED:20190109T095250Z
UID:2619-1547407800-1547415000@www.kinopobjeda.hr
SUMMARY:KOJA JE OVO DRŽAVA
DESCRIPTION:nedjelja\, 13. 1 u 19:30 \nKOJA JE OVO DRŽAVA \nREDATELJ: Vinko Brešan  |  ŽANR: komedija \nULOGE: Krešimir Mikić\, Nikša Butijer\, Lazar Ristovski\, Daniel Olbrychski\, Iva Mihalić\, Dražen Kühn \nTRAJANJE FILMA: 118 minuta  |  GODINA: 2019  |  DRŽAVA: Hrvatska  |  PLAKAT FILMA \nPOČETAK PRIKAZIVANJA: 03.01.2019 \n  \nSADRŽAJ FILMA: \nFilm koji najbolje opisuje stanje u državi može biti samo jednog žanra – uz novu komediju apsurda Vinka Brešana zaboravit ćete sve što znate o Hrvatskoj jer stvarnost je puno gora i smješnija. Nemojte ni sanjati što će se dogoditi kad se u filmu pojave ministar\, predsjednik\, upravitelj zatvora\, general koji halucinira\, hrpa vojnika u vodi i umirovljenika na zemlji. <br> \nZašto se ministar dobrovoljno zatvorio u ćeliju i sve što ste se bojali saznati o Hrvatskoj otkrit ćete u ovom filmu na najsmješniji način u kinima od 3. siječnja. \nTrailer \nhttps://youtu.be/xefIcmU5qCA0 \n
URL:http://www.kinopobjeda.hr/raspored/koja-je-ovo-drzava/
ATTACH;FMTTYPE=image/jpeg:http://www.kinopobjeda.hr/wp-content/uploads/2019/01/Koja-je-ovo-država.jpg
END:VEVENT
END:VCALENDAR