BEGIN:VCALENDAR
VERSION:2.0
PRODID:-//Kino Pobjeda Metković - ECPv4.6.8//NONSGML v1.0//EN
CALSCALE:GREGORIAN
METHOD:PUBLISH
X-WR-CALNAME:Kino Pobjeda Metković
X-ORIGINAL-URL:http://www.kinopobjeda.hr
X-WR-CALDESC:Events for Kino Pobjeda Metković
BEGIN:VEVENT
DTSTART;TZID=UTC+1:20170701T203000
DTEND;TZID=UTC+1:20170701T220000
DTSTAMP:20260423T110054
CREATED:20170630T105648Z
LAST-MODIFIED:20170630T105648Z
UID:1529-1498941000-1498946400@www.kinopobjeda.hr
SUMMARY:KUĆA SREĆE
DESCRIPTION:\n\n\nKUĆA SREĆE\nIZVORNO IME: The House\nREDATELJ: Andrew Jay Cohen  |  ŽANR: komedija\nULOGE: Will Ferrell\, Amy Poehler\, Jason Mantzoukas \nTRAJANJE FILMA: 88 minuta  |  GODINA: 2017  |  DRŽAVA: SAD  | \nDATUM PRIKAZIVANJA: 1.7. U 20\,30 \nSADRŽAJ FILMA: \nScott (Will Ferrell) nagovori svoje prijatelje da organiziraju ilegalni casino u svom podrumu nakon što su on i njegova žena Kate (Amy Poehler) potrošili svu ušteđevinu za kćerin fakultet. \n \n\n\n\n\n\n\n\n\n
URL:http://www.kinopobjeda.hr/raspored/kuca-srece/
CATEGORIES:komedija
END:VEVENT
END:VCALENDAR