BEGIN:VCALENDAR
VERSION:2.0
PRODID:-//Kino Pobjeda Metković - ECPv4.6.8//NONSGML v1.0//EN
CALSCALE:GREGORIAN
METHOD:PUBLISH
X-WR-CALNAME:Kino Pobjeda Metković
X-ORIGINAL-URL:http://www.kinopobjeda.hr
X-WR-CALDESC:Events for Kino Pobjeda Metković
BEGIN:VEVENT
DTSTART;TZID=UTC+1:20201122T170000
DTEND;TZID=UTC+1:20201122T183000
DTSTAMP:20260421T103602
CREATED:20201116T105621Z
LAST-MODIFIED:20201116T105621Z
UID:3509-1606064400-1606069800@www.kinopobjeda.hr
SUMMARY:Kućni ljubimci na tajnom zadatku
DESCRIPTION:\nU Kinu ‘Pobjeda’ Metković u nedjelju\, 22. studenoga u 17 sati održat će se projekcija nove 3D animirane avanture ‘Kućni ljubimci na tajnom zadatku’\, sinkronizirane na hrvatski jezik.\nRoger je pas lutalica koji brine o napuštenim životinjama Robo Citya tako što krade hranu od bogatih i donosi je manje bogatim životinjama. Prilikom jedne takve krađe on upozna Belle\, bogatu i razmaženu mačku te njih dvoje odmah upadnu u klasičnu pas-mačka svađu. Za to vrijeme roboti preuzimaju Robo City\, a u tome im i pomaže gradonačelnik koji želi protjerati sve druge stanovnike grada. Roger i Belle bježeći pred robotima susreću brojne druge životinje koje su vlasnici zaboravili prilikom bijega\, te shvaćaju da se unatoč svojim različitostima moraju osloniti jedni na druge kako bi preživjeli. \n  \n
URL:http://www.kinopobjeda.hr/raspored/kucni-ljubimci-tajnom-zadatku/
CATEGORIES:animirani,avantura
END:VEVENT
END:VCALENDAR