BEGIN:VCALENDAR
VERSION:2.0
PRODID:-//Kino Pobjeda Metković - ECPv4.6.8//NONSGML v1.0//EN
CALSCALE:GREGORIAN
METHOD:PUBLISH
X-WR-CALNAME:Kino Pobjeda Metković
X-ORIGINAL-URL:http://www.kinopobjeda.hr
X-WR-CALDESC:Events for Kino Pobjeda Metković
BEGIN:VEVENT
DTSTART;TZID=UTC+1:20170820T210000
DTEND;TZID=UTC+1:20170820T233000
DTSTAMP:20260423T162409
CREATED:20170801T105220Z
LAST-MODIFIED:20170801T114315Z
UID:1618-1503262800-1503271800@www.kinopobjeda.hr
SUMMARY:KULA TMINE
DESCRIPTION:\nKULA TMINE\nIZVORNO IME: The Dark Tower\nREDATELJ: Nikolaj Arcel  |  ŽANR: akcija\, avantura\, SF\nULOGE: Idris Elba\, Matthew McConaughey\, Katheryn Winnick\, Tom Taylor\, Jackie Earle Haley\nTRAJANJE FILMA: 95 minuta  |  GODINA: 2017  |  DRŽAVA: SAD  |\nDATUM PRIKAZIVANJA: 20.08.2017. U 21\,00 \nSADRŽAJ FILMA: \nPostoje i drugi svjetovi osim našeg. KULA TMINE Stephena Kinga ambiciozna i kompleksna priča jednog od najpoznatijih književnih autora našeg vremena ovog nam ljeta stiže na velika platna. Posljednji viteški ratnik\, Roland Deschain (Idris Elba) nalazi se u vječitoj bitci s Walterom ODimom također poznatim i pod imenom Čovjek u crnom (Matthew McConaughey)\, odlučan spriječiti ga u uništenju Kule Tmine koja u ravnoteži održava kompletan naš univerzum. Dok sudbina svjetova visi o tankoj niti\, dobro i zlo sukobit će se u ultimativnoj bitci u kojoj jedino Roland može obraniti Kulu od Čovjeka u crnom.\n\n\n
URL:http://www.kinopobjeda.hr/raspored/kula-tmine/
CATEGORIES:akcija,avantura,znanstveno-fantastični
END:VEVENT
END:VCALENDAR