BEGIN:VCALENDAR
VERSION:2.0
PRODID:-//Kino Pobjeda Metković - ECPv4.6.8//NONSGML v1.0//EN
CALSCALE:GREGORIAN
METHOD:PUBLISH
X-WR-CALNAME:Kino Pobjeda Metković
X-ORIGINAL-URL:http://www.kinopobjeda.hr
X-WR-CALDESC:Events for Kino Pobjeda Metković
BEGIN:VEVENT
DTSTART;TZID=UTC+1:20171001T173000
DTEND;TZID=UTC+1:20171001T193000
DTSTAMP:20260423T084402
CREATED:20170927T105532Z
LAST-MODIFIED:20170927T105949Z
UID:1730-1506879000-1506886200@www.kinopobjeda.hr
SUMMARY:Lego crtić
DESCRIPTION:\n\n\nZVORNO IME: The Lego Ninjago Movie\nREDATELJ: Charlie Bean\, Paul Fisher   |  ŽANR: animacija\, komedija\, avantura\nULOGE: Zoran Pribičević\, Janko Volarić Popović\, Luka Petrušić\, Hrvoje Klobučar\nTRAJANJE FILMA: 101 minuta  |  GODINA: 2017  |  DRŽAVA: SAD  |  \nDATUM PRIKAZIVANJA: 1.10.2017. U 17\,30\nDatum prikazivanja je informativnog karaktera i kao takav je podložan promjenama.SADRŽAJ FILMA: \nMladi Lloyd\, aka Zelena Ninja\, će se zajedno sa svojim prijateljima\, koji su svi tajni ratnici\, boriti za Ninjago grad. Pod vodstvom mudrog kung fu majstora Wua\, morat će pobijediti zlog Garmadona\, koji je ujedno otac mladog Lloyda. U ovoj epskoj borbi oca i sina\, nedisciplinirani tim suvremenih ratnika morat će naučiti surađivati zajedno kako bi oslobodili svoju pravu snagu.\n\n\n\n\n\n\n
URL:http://www.kinopobjeda.hr/raspored/lego-crtic/
CATEGORIES:animirani,avantura,komedija,sinkronizirano
END:VEVENT
END:VCALENDAR