BEGIN:VCALENDAR
VERSION:2.0
PRODID:-//Kino Pobjeda Metković - ECPv4.6.8//NONSGML v1.0//EN
CALSCALE:GREGORIAN
METHOD:PUBLISH
X-WR-CALNAME:Kino Pobjeda Metković
X-ORIGINAL-URL:http://www.kinopobjeda.hr
X-WR-CALDESC:Events for Kino Pobjeda Metković
BEGIN:VEVENT
DTSTART;TZID=UTC+1:20200923T201500
DTEND;TZID=UTC+1:20200923T220000
DTSTAMP:20260421T113523
CREATED:20200921T085223Z
LAST-MODIFIED:20200921T085223Z
UID:3347-1600892100-1600898400@www.kinopobjeda.hr
SUMMARY:Ljetni sati
DESCRIPTION:\nU Kinu ‘Pobjeda’ Metković u srijedu\, 23. rujna u 20:15 na rasporedu je film ‘Ljetni sati’ – druga projekcija u sklopu ciklusa Rendez-vous au cinéma.\nFrancuski dramski film iz 2007. redatelja Oliviera Assayasa priča je o obiteljskim odnosima. Adrienne (Juliette Binoche)\, dizajnerica koja živi u New Yorku\, Frederic (Charles Berling)\, ekonomist i profesor na fakultetu u Parizu te Jeremie (Jérémie Renier)\, biznismen koji je postigao veliki uspjeh u Kini\, ponovno se susreću nakon što im iznenada premine majka. \nMajčina smrt prisilit će ih da se sukobe s glomaznim predmetima iz svoje prošlosti. Hoće li ova naizgled usko povezana obitelj moći ostati zajedno? \n  \n  \n
URL:http://www.kinopobjeda.hr/raspored/ljetni-sati/
CATEGORIES:drama
END:VEVENT
END:VCALENDAR