BEGIN:VCALENDAR
VERSION:2.0
PRODID:-//Kino Pobjeda Metković - ECPv4.6.8//NONSGML v1.0//EN
CALSCALE:GREGORIAN
METHOD:PUBLISH
X-WR-CALNAME:Kino Pobjeda Metković
X-ORIGINAL-URL:http://www.kinopobjeda.hr
X-WR-CALDESC:Events for Kino Pobjeda Metković
BEGIN:VEVENT
DTSTART;TZID=UTC+1:20230717T210000
DTEND;TZID=UTC+1:20230717T234300
DTSTAMP:20260421T020208
CREATED:20230712T100827Z
LAST-MODIFIED:20230712T100827Z
UID:4945-1689627600-1689637380@www.kinopobjeda.hr
SUMMARY:Ljetno kino - 'Nemoguća misija: Odmazda\, prvi dio'
DESCRIPTION:\nProjekcijom sedmoga dijela akcijskoga filma ‘Nemoguća misija: Odmazda\, prvi dio’ u ponedjeljak\, 17. srpnja u 21 sat započinju ovogodišnje projekcije u Ljetnome Kinu ‘Pobjeda’.\nSedmi i osmi film iz franšize ‘Nemoguća misija’ bit će i službeni ispraćaj Ethana Hunta\, kojeg Tom Cruise tumači od 1996. godine. Ethan Hunt (Tom Cruise) i njegov IMF tim u filmu kreću u najopasniju misiju do sada: da pronađu novo\, zastrašujuće oružje koje prijeti cijelom čovječanstvu\, prije nego što padne u pogrešne ruke. U igri su sudbina svijeta i kontrola budućnosti\, mračne sile iz Ethanove prošlosti se približavaju i smrtonosna trka oko svijeta počinje. Suočen sa misterioznim\, svemoćnim neprijateljem\, Ethan je primoran da shvati da ništa ne može biti važnije od njegove misije\, čak ni životi onih do kojih mu je najviše stalo. \n  \n
URL:http://www.kinopobjeda.hr/raspored/ljetno-kino-nemoguca-misija-odmazda-prvi-dio/
CATEGORIES:12,akcija,avantura
END:VEVENT
END:VCALENDAR