BEGIN:VCALENDAR
VERSION:2.0
PRODID:-//Kino Pobjeda Metković - ECPv4.6.8//NONSGML v1.0//EN
CALSCALE:GREGORIAN
METHOD:PUBLISH
X-WR-CALNAME:Kino Pobjeda Metković
X-ORIGINAL-URL:http://www.kinopobjeda.hr
X-WR-CALDESC:Events for Kino Pobjeda Metković
BEGIN:VEVENT
DTSTART;TZID=UTC+1:20221105T170000
DTEND;TZID=UTC+1:20221105T182800
DTSTAMP:20260419T173235
CREATED:20221102T125216Z
LAST-MODIFIED:20221102T125422Z
UID:4562-1667667600-1667672880@www.kinopobjeda.hr
SUMMARY:Lola i velika tajna
DESCRIPTION:\nU Kinu ‘Pobjeda’ Metković u subotu\, 5. studenoga 17 sati na rasporedu je animirani film ‘Lola i velika tajna’\, sinkroniziran na hrvatski jezik. \nU meksičkom gradu Santa Clara živi Lola\, šesnaestogodišnjakinja koja nikada nije upoznala svoje biološke roditelje. Lola je veći dio svog života slušala priče kako su je roditelji napustili. Istraživala je mjesta gdje bi se oni mogli nalaziti\, sve dok nije otkrila posebnu knjigu punu zanimljivih priča o gradu u kojem živi i povijesti njenog naroda. S ovom posebnom knjigom\, Lola sa svoja dva brata kreće u avanturu kako bi pronašli karike koje nedostaju u njihovom obiteljskom naslijeđu. \n  \n
URL:http://www.kinopobjeda.hr/raspored/lola-velika-tajna/
CATEGORIES:animirani,sinkronizirano
END:VEVENT
END:VCALENDAR