BEGIN:VCALENDAR
VERSION:2.0
PRODID:-//Kino Pobjeda Metković - ECPv4.6.8//NONSGML v1.0//EN
CALSCALE:GREGORIAN
METHOD:PUBLISH
X-WR-CALNAME:Kino Pobjeda Metković
X-ORIGINAL-URL:http://www.kinopobjeda.hr
X-WR-CALDESC:Events for Kino Pobjeda Metković
BEGIN:VEVENT
DTSTART;TZID=UTC+1:20211005T200000
DTEND;TZID=UTC+1:20211005T215000
DTSTAMP:20260419T162109
CREATED:20211004T090707Z
LAST-MODIFIED:20211004T090707Z
UID:4048-1633464000-1633470600@www.kinopobjeda.hr
SUMMARY:Ludi Pierrot
DESCRIPTION:\nU sklopu programa ‘Rendez-vous au cinéma’ u Kinu ‘Pobjeda’ Metković u utorak\, 5. listopada s početkom u 20 sati održat će se projekcija filma ‘Ludi Pierrot’.\nMožda i najslavniji film Jean-Luca Godarda prati Pierrota koji bježi od dosadna života putujući od Pariza prema romantičnom jugu. U bijegu mu se pridružuje Marianne\, privlačna mlada žena koju proganjaju gangsteri. Niz pljački\, ubojstava i prijevara neizbježno vode tragičnom kraju. \nUlaz na projekciju je slobodan. \n\n
URL:http://www.kinopobjeda.hr/raspored/ludi-pierrot-2/
CATEGORIES:kriminalistički,ljubavna drama
END:VEVENT
END:VCALENDAR