BEGIN:VCALENDAR
VERSION:2.0
PRODID:-//Kino Pobjeda Metković - ECPv4.6.8//NONSGML v1.0//EN
CALSCALE:GREGORIAN
METHOD:PUBLISH
X-WR-CALNAME:Kino Pobjeda Metković
X-ORIGINAL-URL:http://www.kinopobjeda.hr
X-WR-CALDESC:Events for Kino Pobjeda Metković
BEGIN:VEVENT
DTSTART;TZID=UTC+1:20180527T173000
DTEND;TZID=UTC+1:20180527T190000
DTSTAMP:20260424T002556
CREATED:20180522T114849Z
LAST-MODIFIED:20180522T114849Z
UID:2317-1527442200-1527447600@www.kinopobjeda.hr
SUMMARY:LUKA I ČAROBNI MUZEJ
DESCRIPTION:\nLUKA I ČAROBNI MUZEJ \nIZVORNO IME: Harvie and the Magic Museum \nREDATELJ: Martin Kotík\, Inna Evlannikova  |  ŽANR: Animacija \nULOGE: Aleksandra Naumov\, Sementa Rajhard\, Alen Šalinović\, Mladen Vassary\, Dražen Bratulić \nTRAJANJE FILMA: 86 minuta  |  GODINA: 2017  |  DRŽAVA: Češka  |  PLAKAT FILMA \nPOČETAK PRIKAZIVANJA: 10.05.2018 \n  \nSADRŽAJ FILMA: \nLuka je pametan\, ali previše živahan dječak s jednom ambicijom: završiti posljednju razinu svoje računalne igre. Jednom kad završi u gejmerskom Hall of Fame-u\, njegov odsutan otac gospodin Spejbl će se napokon ponositi njime. Međutim\, završetak igrice će biti tek početak velike avanture koja će odvesti Luku\, njegovog psa Džekija i prijateljicu Moniku u davno zaboravljeni muzej lutaka\, gdje će Luka vratiti u život sve lutke\, pa tako i groznog lutkara! Pobjeda nad ludim lutkarom neće samo spasiti njegovog oca\, već i cijeli grad od ljutite i drvene sudbine! \n \n  \n
URL:http://www.kinopobjeda.hr/raspored/luka-carobni-muzej/
CATEGORIES:animirani
END:VEVENT
END:VCALENDAR