BEGIN:VCALENDAR
VERSION:2.0
PRODID:-//Kino Pobjeda Metković - ECPv4.6.8//NONSGML v1.0//EN
CALSCALE:GREGORIAN
METHOD:PUBLISH
X-WR-CALNAME:Kino Pobjeda Metković
X-ORIGINAL-URL:http://www.kinopobjeda.hr
X-WR-CALDESC:Events for Kino Pobjeda Metković
BEGIN:VEVENT
DTSTART;TZID=UTC+1:20210620T173000
DTEND;TZID=UTC+1:20210620T190000
DTSTAMP:20260421T011134
CREATED:20210614T081104Z
LAST-MODIFIED:20210614T081104Z
UID:3907-1624210200-1624215600@www.kinopobjeda.hr
SUMMARY:Luka
DESCRIPTION:\nU Kinu ‘Pobjeda’ Metković u nedjelju\, 20. lipnja u 17:30 na rasporedu je animirani film ‘Luka’\, sinkroniziran na hrvatski jezik.\nMladi dečko Luka doživljava nezaboravno ljeto na talijanskoj rivijeri ispunjeno hrpom sladoleda\, ukusne mediteranske hrane i beskrajnom vožnjom skutera uz more. Luka dijeli ove pustolovine sa svojim novootkrivenim najboljim prijateljem\, ali njihovoj beskrajnoj zabavi prijeti duboko čuvana tajna: radi se zapravo o pravim morskim čudovištima iz drugog svijeta\, iz dubine oceana. \n  \n
URL:http://www.kinopobjeda.hr/raspored/luka/
CATEGORIES:animirani,sinkronizirano
END:VEVENT
END:VCALENDAR