BEGIN:VCALENDAR
VERSION:2.0
PRODID:-//Kino Pobjeda Metković - ECPv4.6.8//NONSGML v1.0//EN
CALSCALE:GREGORIAN
METHOD:PUBLISH
X-WR-CALNAME:Kino Pobjeda Metković
X-ORIGINAL-URL:http://www.kinopobjeda.hr
X-WR-CALDESC:Events for Kino Pobjeda Metković
BEGIN:VEVENT
DTSTART;TZID=UTC+1:20180325T193000
DTEND;TZID=UTC+1:20180325T213000
DTSTAMP:20260423T010724
CREATED:20180320T075219Z
LAST-MODIFIED:20180320T075450Z
UID:2175-1522006200-1522013400@www.kinopobjeda.hr
SUMMARY:Lyndon B. Johnson
DESCRIPTION:\nIZVORNO IME: LBJ\nREDATELJ: Rob Reiner | ŽANR: drama\nULOGE: Woody Harrelson\, Jennifer Jason Leigh\, Bill Pullman\, Richard Jenkins\nTRAJANJE FILMA: 98 minuta | GODINA: 2016 | DRŽAVA: SAD | \nSADRŽAJ FILMA:\nNakon što je moćni senator Lyndon Johnson 1960. godine izgubio predsjedničku nominaciju na demokratskoj konvenciji od senatora Johna F. Kennedyja\, pristao je biti potpredsjednički kandidat svom mladom rivalu. Međutim\, nakon što pobijede na izborima\, unatoč njegovom pozamašnom političkom iskustvu i lukavim instinktima\, Johnson se nađe u sporednoj ulozi kao Potpredsjednik SAD-a. Ipak\, sve se mijenja dana 22. studenog 1963. godine\, nakon izvršenog atentata na Kennedyja kada Johnson\, sa svojom odanom suprugom Lady Bird\, iznenadno postaje vođa „najveće nacije na svijetu“. Dok narod oplakuje svog idola\, Johnson se nalazi u sukobu s dugogodišnjim savjetnikom\, državnim odvjetnikom Bobbyjem Kennedyjem i nekada svojim mentorom iz Georgije\, senatorom Richardom Russellom u vezi poznatog Zakona o građanskim pravima 1964. godine… \n \n
URL:http://www.kinopobjeda.hr/raspored/lyndon-b-johnson/
CATEGORIES:drama
END:VEVENT
END:VCALENDAR